BEGIN:VCALENDAR
VERSION:2.0
PRODID:-//OpenTEL - ECPv6.0.4//NONSGML v1.0//EN
CALSCALE:GREGORIAN
METHOD:PUBLISH
X-WR-CALNAME:OpenTEL
X-ORIGINAL-URL:https://www.open.ac.uk/blogs/opentel
X-WR-CALDESC:Events for OpenTEL
REFRESH-INTERVAL;VALUE=DURATION:PT1H
X-Robots-Tag:noindex
X-PUBLISHED-TTL:PT1H
BEGIN:VTIMEZONE
TZID:UTC
BEGIN:STANDARD
TZOFFSETFROM:+0000
TZOFFSETTO:+0000
TZNAME:UTC
DTSTART:20180101T000000
END:STANDARD
END:VTIMEZONE
BEGIN:VEVENT
DTSTART;TZID=UTC:20181002T100000
DTEND;TZID=UTC:20181002T110000
DTSTAMP:20260421T105652
CREATED:20180207T133321Z
LAST-MODIFIED:20180517T083314Z
UID:763-1538474400-1538478000@www.open.ac.uk
SUMMARY:Full Group - openTEL Bi-Monthly Steering Group Meeting
DESCRIPTION:
URL:https://www.open.ac.uk/blogs/opentel/event/opentel-steering-group-meeting-6/
END:VEVENT
END:VCALENDAR