BEGIN:VCALENDAR
VERSION:2.0
PRODID:-//OpenTEL - ECPv6.0.4//NONSGML v1.0//EN
CALSCALE:GREGORIAN
METHOD:PUBLISH
X-WR-CALNAME:OpenTEL
X-ORIGINAL-URL:https://www.open.ac.uk/blogs/opentel
X-WR-CALDESC:Events for OpenTEL
REFRESH-INTERVAL;VALUE=DURATION:PT1H
X-Robots-Tag:noindex
X-PUBLISHED-TTL:PT1H
BEGIN:VTIMEZONE
TZID:UTC
BEGIN:STANDARD
TZOFFSETFROM:+0000
TZOFFSETTO:+0000
TZNAME:UTC
DTSTART:20180101T000000
END:STANDARD
END:VTIMEZONE
BEGIN:VEVENT
DTSTART;TZID=UTC:20181106T000000
DTEND;TZID=UTC:20181107T000000
DTSTAMP:20260425T155910
CREATED:20180207T133551Z
LAST-MODIFIED:20180207T133551Z
UID:767-1541462400-1541548800@www.open.ac.uk
SUMMARY:[OpenTEL] Show&TEL
DESCRIPTION:2 days event.
URL:https://www.open.ac.uk/blogs/opentel/event/opentel-showtel-2/
END:VEVENT
END:VCALENDAR