BEGIN:VCALENDAR
VERSION:2.0
PRODID:-//OpenTEL - ECPv6.0.4//NONSGML v1.0//EN
CALSCALE:GREGORIAN
METHOD:PUBLISH
X-ORIGINAL-URL:https://www.open.ac.uk/blogs/opentel
X-WR-CALDESC:Events for OpenTEL
REFRESH-INTERVAL;VALUE=DURATION:PT1H
X-Robots-Tag:noindex
X-PUBLISHED-TTL:PT1H
BEGIN:VTIMEZONE
TZID:UTC
BEGIN:STANDARD
TZOFFSETFROM:+0000
TZOFFSETTO:+0000
TZNAME:UTC
DTSTART:20180101T000000
END:STANDARD
END:VTIMEZONE
BEGIN:VEVENT
DTSTART;TZID=UTC:20181218T100000
DTEND;TZID=UTC:20181218T110000
DTSTAMP:20260425T112230
CREATED:20180426T084824Z
LAST-MODIFIED:20181204T154136Z
UID:876-1545127200-1545130800@www.open.ac.uk
SUMMARY:openAIED Interest Group Monthly Meeting
DESCRIPTION:
URL:https://www.open.ac.uk/blogs/opentel/event/openaied-interest-group-monthly-meeting-7/
LOCATION:Ambient Lab\, Jennie Lee Building\, The Open University\, Milton Keynes\, MK7 6AA\, United Kingdom
END:VEVENT
END:VCALENDAR