BEGIN:VCALENDAR
VERSION:2.0
PRODID:-//OpenTEL - ECPv6.0.4//NONSGML v1.0//EN
CALSCALE:GREGORIAN
METHOD:PUBLISH
X-WR-CALNAME:OpenTEL
X-ORIGINAL-URL:https://www.open.ac.uk/blogs/opentel
X-WR-CALDESC:Events for OpenTEL
REFRESH-INTERVAL;VALUE=DURATION:PT1H
X-Robots-Tag:noindex
X-PUBLISHED-TTL:PT1H
BEGIN:VTIMEZONE
TZID:UTC
BEGIN:STANDARD
TZOFFSETFROM:+0000
TZOFFSETTO:+0000
TZNAME:UTC
DTSTART:20190101T000000
END:STANDARD
END:VTIMEZONE
BEGIN:VEVENT
DTSTART;TZID=UTC:20190206T140000
DTEND;TZID=UTC:20190206T160000
DTSTAMP:20260425T112217
CREATED:20190201T114753Z
LAST-MODIFIED:20190201T114753Z
UID:1300-1549461600-1549468800@www.open.ac.uk
SUMMARY:Completed Projects Seminar Series
DESCRIPTION:Please join us to hear about recently completed openTEL research projects\, Open Text books\, mEvaluate and Mazi.
URL:https://www.open.ac.uk/blogs/opentel/event/completed-projects-seminar-series/
END:VEVENT
END:VCALENDAR