BEGIN:VCALENDAR
VERSION:2.0
PRODID:-//OpenTEL - ECPv6.0.4//NONSGML v1.0//EN
CALSCALE:GREGORIAN
METHOD:PUBLISH
X-ORIGINAL-URL:https://www.open.ac.uk/blogs/opentel
X-WR-CALDESC:Events for OpenTEL
REFRESH-INTERVAL;VALUE=DURATION:PT1H
X-Robots-Tag:noindex
X-PUBLISHED-TTL:PT1H
BEGIN:VTIMEZONE
TZID:UTC
BEGIN:STANDARD
TZOFFSETFROM:+0000
TZOFFSETTO:+0000
TZNAME:UTC
DTSTART:20190101T000000
END:STANDARD
END:VTIMEZONE
BEGIN:VEVENT
DTSTART;TZID=UTC:20190211T140000
DTEND;TZID=UTC:20190211T160000
DTSTAMP:20260425T142140
CREATED:20190119T150517Z
LAST-MODIFIED:20190128T161435Z
UID:1283-1549893600-1549900800@www.open.ac.uk
SUMMARY:Open & Inclusive SIG Meeting
DESCRIPTION:
URL:https://www.open.ac.uk/blogs/opentel/event/open-inclusive-sig-meeting/
END:VEVENT
END:VCALENDAR