BEGIN:VCALENDAR
VERSION:2.0
PRODID:-//OpenTEL - ECPv6.0.4//NONSGML v1.0//EN
CALSCALE:GREGORIAN
METHOD:PUBLISH
X-ORIGINAL-URL:https://www.open.ac.uk/blogs/opentel
X-WR-CALDESC:Events for OpenTEL
REFRESH-INTERVAL;VALUE=DURATION:PT1H
X-Robots-Tag:noindex
X-PUBLISHED-TTL:PT1H
BEGIN:VTIMEZONE
TZID:UTC
BEGIN:STANDARD
TZOFFSETFROM:+0000
TZOFFSETTO:+0000
TZNAME:UTC
DTSTART:20190101T000000
END:STANDARD
END:VTIMEZONE
BEGIN:VEVENT
DTSTART;TZID=UTC:20190212T140000
DTEND;TZID=UTC:20190212T150000
DTSTAMP:20260425T142139
CREATED:20180806T075642Z
LAST-MODIFIED:20181213T111526Z
UID:968-1549980000-1549983600@www.open.ac.uk
SUMMARY:openAIED Special Interest Group Meeting
DESCRIPTION:
URL:https://www.open.ac.uk/blogs/opentel/event/openaied-interest-group-monthly-meeting-8/
LOCATION:Meeting Room 1\, Jennie Lee Building\, The Open University\, Milton Keynes\, MK7 6AA\, United Kingdom
END:VEVENT
END:VCALENDAR