BEGIN:VCALENDAR
VERSION:2.0
PRODID:-//OpenTEL - ECPv6.0.4//NONSGML v1.0//EN
CALSCALE:GREGORIAN
METHOD:PUBLISH
X-WR-CALNAME:OpenTEL
X-ORIGINAL-URL:https://www.open.ac.uk/blogs/opentel
X-WR-CALDESC:Events for OpenTEL
REFRESH-INTERVAL;VALUE=DURATION:PT1H
X-Robots-Tag:noindex
X-PUBLISHED-TTL:PT1H
BEGIN:VTIMEZONE
TZID:UTC
BEGIN:STANDARD
TZOFFSETFROM:+0000
TZOFFSETTO:+0000
TZNAME:UTC
DTSTART:20190101T000000
END:STANDARD
END:VTIMEZONE
BEGIN:VEVENT
DTSTART;TZID=UTC:20190603T090000
DTEND;TZID=UTC:20190603T170000
DTSTAMP:20260424T223800
CREATED:20190301T160230Z
LAST-MODIFIED:20190301T160230Z
UID:1414-1559552400-1559581200@www.open.ac.uk
SUMMARY:Writing Retreat
DESCRIPTION:
URL:https://www.open.ac.uk/blogs/opentel/event/writing-retreat/
END:VEVENT
END:VCALENDAR