BEGIN:VCALENDAR
VERSION:2.0
PRODID:-//OpenTEL - ECPv6.0.4//NONSGML v1.0//EN
CALSCALE:GREGORIAN
METHOD:PUBLISH
X-WR-CALNAME:OpenTEL
X-ORIGINAL-URL:https://www.open.ac.uk/blogs/opentel
X-WR-CALDESC:Events for OpenTEL
REFRESH-INTERVAL;VALUE=DURATION:PT1H
X-Robots-Tag:noindex
X-PUBLISHED-TTL:PT1H
BEGIN:VTIMEZONE
TZID:UTC
BEGIN:STANDARD
TZOFFSETFROM:+0000
TZOFFSETTO:+0000
TZNAME:UTC
DTSTART:20190101T000000
END:STANDARD
END:VTIMEZONE
BEGIN:VEVENT
DTSTART;TZID=UTC:20190925T140000
DTEND;TZID=UTC:20190925T150000
DTSTAMP:20260424T101307
CREATED:20181204T160941Z
LAST-MODIFIED:20190821T132554Z
UID:1197-1569420000-1569423600@www.open.ac.uk
SUMMARY:Assessment & Feedback Special Interest Group Meeting
DESCRIPTION:
URL:https://www.open.ac.uk/blogs/opentel/event/opentel-assessment-feedback-special-interest-group-meeting-5/
LOCATION:Ambient Lab\, Jennie Lee Building\, The Open University\, Milton Keynes\, MK7 6AA\, United Kingdom
END:VEVENT
END:VCALENDAR