BEGIN:VCALENDAR
VERSION:2.0
PRODID:-//OpenTEL - ECPv6.0.4//NONSGML v1.0//EN
CALSCALE:GREGORIAN
METHOD:PUBLISH
X-ORIGINAL-URL:https://www.open.ac.uk/blogs/opentel
X-WR-CALDESC:Events for OpenTEL
REFRESH-INTERVAL;VALUE=DURATION:PT1H
X-Robots-Tag:noindex
X-PUBLISHED-TTL:PT1H
BEGIN:VTIMEZONE
TZID:UTC
BEGIN:STANDARD
TZOFFSETFROM:+0000
TZOFFSETTO:+0000
TZNAME:UTC
DTSTART:20200101T000000
END:STANDARD
END:VTIMEZONE
BEGIN:VEVENT
DTSTART;TZID=UTC:20200513T100000
DTEND;TZID=UTC:20200513T110000
DTSTAMP:20260423T023209
CREATED:20200312T120639Z
LAST-MODIFIED:20200312T120639Z
UID:1889-1589364000-1589367600@www.open.ac.uk
SUMMARY:openTEL Steering Group
DESCRIPTION:Wednesday 13th May 10:00 – 11:00 \nmeeting room: ASH\, 1st floor JLB \n 
URL:https://www.open.ac.uk/blogs/opentel/event/opentel-steering-group/
END:VEVENT
END:VCALENDAR