BEGIN:VCALENDAR
VERSION:2.0
PRODID:-//OpenTEL - ECPv6.0.4//NONSGML v1.0//EN
CALSCALE:GREGORIAN
METHOD:PUBLISH
X-WR-CALNAME:OpenTEL
X-ORIGINAL-URL:https://www.open.ac.uk/blogs/opentel
X-WR-CALDESC:Events for OpenTEL
REFRESH-INTERVAL;VALUE=DURATION:PT1H
X-Robots-Tag:noindex
X-PUBLISHED-TTL:PT1H
BEGIN:VTIMEZONE
TZID:UTC
BEGIN:STANDARD
TZOFFSETFROM:+0000
TZOFFSETTO:+0000
TZNAME:UTC
DTSTART:20200101T000000
END:STANDARD
END:VTIMEZONE
BEGIN:VEVENT
DTSTART;TZID=UTC:20200608T100000
DTEND;TZID=UTC:20200608T130000
DTSTAMP:20260423T020339
CREATED:20200608T145456Z
LAST-MODIFIED:20200608T145456Z
UID:1982-1591610400-1591621200@www.open.ac.uk
SUMMARY:Research Career Value Chain Workshop
DESCRIPTION:Helen Elves\, Research Development Manager\, will be joining Eileen and the Research Support Team to run an online workshop to introduce the Research Career Value Chain. This tool will help you to navigate research opportunities based on your career stage\, support your research bidding activity\, and help to plan your career development. \ncontact: openTEL@open.ac.uk
URL:https://www.open.ac.uk/blogs/opentel/event/research-career-value-chain-workshop/
END:VEVENT
END:VCALENDAR