BEGIN:VCALENDAR
VERSION:2.0
PRODID:-//OpenTEL - ECPv6.0.4//NONSGML v1.0//EN
CALSCALE:GREGORIAN
METHOD:PUBLISH
X-ORIGINAL-URL:https://www.open.ac.uk/blogs/opentel
X-WR-CALDESC:Events for OpenTEL
REFRESH-INTERVAL;VALUE=DURATION:PT1H
X-Robots-Tag:noindex
X-PUBLISHED-TTL:PT1H
BEGIN:VTIMEZONE
TZID:Europe/London
BEGIN:DAYLIGHT
TZOFFSETFROM:+0000
TZOFFSETTO:+0100
TZNAME:BST
DTSTART:20210328T010000
END:DAYLIGHT
BEGIN:STANDARD
TZOFFSETFROM:+0100
TZOFFSETTO:+0000
TZNAME:GMT
DTSTART:20211031T010000
END:STANDARD
END:VTIMEZONE
BEGIN:VEVENT
DTSTART;TZID=Europe/London:20210224T143000
DTEND;TZID=Europe/London:20210224T153000
DTSTAMP:20260421T142929
CREATED:20210210T110943Z
LAST-MODIFIED:20210210T110943Z
UID:2350-1614177000-1614180600@www.open.ac.uk
SUMMARY:openTEL Seminar: Martin Glynn
DESCRIPTION:Wednesday 24th February 2021 (14:30 – 15:30)\nONLINE: MS Teams (please email openTEL to be sent an invitation) \nPlease note this session will be recorded. To find out more about this event or to be added to the openTEL mailing list please email openTEL@open.ac.uk
URL:https://www.open.ac.uk/blogs/opentel/event/opentel-seminar-martin-glynn/
END:VEVENT
END:VCALENDAR