BEGIN:VCALENDAR
VERSION:2.0
PRODID:-//OpenTEL - ECPv6.0.4//NONSGML v1.0//EN
CALSCALE:GREGORIAN
METHOD:PUBLISH
X-WR-CALNAME:OpenTEL
X-ORIGINAL-URL:https://www.open.ac.uk/blogs/opentel
X-WR-CALDESC:Events for OpenTEL
REFRESH-INTERVAL;VALUE=DURATION:PT1H
X-Robots-Tag:noindex
X-PUBLISHED-TTL:PT1H
BEGIN:VTIMEZONE
TZID:UTC
BEGIN:STANDARD
TZOFFSETFROM:+0000
TZOFFSETTO:+0000
TZNAME:UTC
DTSTART:20210101T000000
END:STANDARD
END:VTIMEZONE
BEGIN:VEVENT
DTSTART;TZID=UTC:20210324T100000
DTEND;TZID=UTC:20210324T120000
DTSTAMP:20260421T043514
CREATED:20210225T115724Z
LAST-MODIFIED:20210225T115724Z
UID:2370-1616580000-1616587200@www.open.ac.uk
SUMMARY:Open & Inclusive SIG (10:00 - 12:00)
DESCRIPTION:Open & Inclusive Special Interest Group\nWednesday 24th March 2021\n10:00 – 12:00\nONLINE: MS Teams \nJoin us online for the next Open and Inclusive Special Interest Group\, with presentations from Sumeya Loonat and Dan Holloway. \nOpen & Inclusive SIG: 24th March
URL:https://www.open.ac.uk/blogs/opentel/event/open-inclusive-sig-1000-1200/
END:VEVENT
END:VCALENDAR