BEGIN:VCALENDAR
VERSION:2.0
PRODID:-//OpenTEL - ECPv6.0.4//NONSGML v1.0//EN
CALSCALE:GREGORIAN
METHOD:PUBLISH
X-WR-CALNAME:OpenTEL
X-ORIGINAL-URL:https://www.open.ac.uk/blogs/opentel
X-WR-CALDESC:Events for OpenTEL
REFRESH-INTERVAL;VALUE=DURATION:PT1H
X-Robots-Tag:noindex
X-PUBLISHED-TTL:PT1H
BEGIN:VTIMEZONE
TZID:UTC
BEGIN:STANDARD
TZOFFSETFROM:+0000
TZOFFSETTO:+0000
TZNAME:UTC
DTSTART:20210101T000000
END:STANDARD
END:VTIMEZONE
BEGIN:VEVENT
DTSTART;TZID=UTC:20210512T140000
DTEND;TZID=UTC:20210512T150000
DTSTAMP:20260421T025538
CREATED:20210506T091751Z
LAST-MODIFIED:20210506T091751Z
UID:2495-1620828000-1620831600@www.open.ac.uk
SUMMARY:openAIED Special Interest Group
DESCRIPTION:openAIED SIG: 12th May
URL:https://www.open.ac.uk/blogs/opentel/event/openaied-special-interest-group/
END:VEVENT
END:VCALENDAR