BEGIN:VCALENDAR
VERSION:2.0
PRODID:-//OpenTEL - ECPv6.0.4//NONSGML v1.0//EN
CALSCALE:GREGORIAN
METHOD:PUBLISH
X-WR-CALNAME:OpenTEL
X-ORIGINAL-URL:https://www.open.ac.uk/blogs/opentel
X-WR-CALDESC:Events for OpenTEL
REFRESH-INTERVAL;VALUE=DURATION:PT1H
X-Robots-Tag:noindex
X-PUBLISHED-TTL:PT1H
BEGIN:VTIMEZONE
TZID:Europe/London
BEGIN:DAYLIGHT
TZOFFSETFROM:+0000
TZOFFSETTO:+0100
TZNAME:BST
DTSTART:20210328T010000
END:DAYLIGHT
BEGIN:STANDARD
TZOFFSETFROM:+0100
TZOFFSETTO:+0000
TZNAME:GMT
DTSTART:20211031T010000
END:STANDARD
END:VTIMEZONE
BEGIN:VEVENT
DTSTART;TZID=Europe/London:20210526T153000
DTEND;TZID=Europe/London:20210526T170000
DTSTAMP:20260421T125155
CREATED:20210413T133216Z
LAST-MODIFIED:20210506T085355Z
UID:2425-1622043000-1622048400@www.open.ac.uk
SUMMARY:Learning @ Scale (L@S) SIG
DESCRIPTION:Programme (26 May 2021)\n15.30 Introduction\n15.40 Dr Anna Comas-Quinn presents Learning beyond the classroom: online volunteer translation (see info below)\n16.30 Roundtable: What do we want for our SIG\n17.00 End \nNew Special Interest Group: Learning At Scale
URL:https://www.open.ac.uk/blogs/opentel/event/save-the-date-1st-meeting-of-the-learning-scale-ls-sig/
END:VEVENT
END:VCALENDAR