BEGIN:VCALENDAR
VERSION:2.0
PRODID:-//OpenTEL - ECPv6.0.4//NONSGML v1.0//EN
CALSCALE:GREGORIAN
METHOD:PUBLISH
X-WR-CALNAME:OpenTEL
X-ORIGINAL-URL:https://www.open.ac.uk/blogs/opentel
X-WR-CALDESC:Events for OpenTEL
REFRESH-INTERVAL;VALUE=DURATION:PT1H
X-Robots-Tag:noindex
X-PUBLISHED-TTL:PT1H
BEGIN:VTIMEZONE
TZID:Europe/London
BEGIN:DAYLIGHT
TZOFFSETFROM:+0000
TZOFFSETTO:+0100
TZNAME:BST
DTSTART:20210328T010000
END:DAYLIGHT
BEGIN:STANDARD
TZOFFSETFROM:+0100
TZOFFSETTO:+0000
TZNAME:GMT
DTSTART:20211031T010000
END:STANDARD
END:VTIMEZONE
BEGIN:VEVENT
DTSTART;TZID=Europe/London:20211201T140000
DTEND;TZID=Europe/London:20211201T160000
DTSTAMP:20260422T175346
CREATED:20210721T112131Z
LAST-MODIFIED:20211124T094414Z
UID:2594-1638367200-1638374400@www.open.ac.uk
SUMMARY:open & Inclusive Special Interest Group
DESCRIPTION:Join us online for the open & Inclusive SIG for talks from two external speakers on assistive technologies. \nopen & Inclusive SIG: Presentations on Assistive Technology & UX Accessibility
URL:https://www.open.ac.uk/blogs/opentel/event/open-inclusive-special-interest-group/
END:VEVENT
END:VCALENDAR