BEGIN:VCALENDAR
VERSION:2.0
PRODID:-//OpenTEL - ECPv6.0.4//NONSGML v1.0//EN
CALSCALE:GREGORIAN
METHOD:PUBLISH
X-WR-CALNAME:OpenTEL
X-ORIGINAL-URL:https://www.open.ac.uk/blogs/opentel
X-WR-CALDESC:Events for OpenTEL
REFRESH-INTERVAL;VALUE=DURATION:PT1H
X-Robots-Tag:noindex
X-PUBLISHED-TTL:PT1H
BEGIN:VTIMEZONE
TZID:UTC
BEGIN:STANDARD
TZOFFSETFROM:+0000
TZOFFSETTO:+0000
TZNAME:UTC
DTSTART:20220101T000000
END:STANDARD
END:VTIMEZONE
BEGIN:VEVENT
DTSTART;TZID=UTC:20220228T130000
DTEND;TZID=UTC:20220228T150000
DTSTAMP:20260424T002502
CREATED:20220217T175331Z
LAST-MODIFIED:20220223T152311Z
UID:2854-1646053200-1646060400@www.open.ac.uk
SUMMARY:open & Inclusive SIG
DESCRIPTION:Join us for presentations from Jessica Carr\, Ian Kenny and Christothea Herodotou. \nopen & Inclusive SIG
URL:https://www.open.ac.uk/blogs/opentel/event/open-inclusive-sig-4/
END:VEVENT
END:VCALENDAR