BEGIN:VCALENDAR
VERSION:2.0
PRODID:-//OpenTEL - ECPv6.0.4//NONSGML v1.0//EN
CALSCALE:GREGORIAN
METHOD:PUBLISH
X-ORIGINAL-URL:https://www.open.ac.uk/blogs/opentel
X-WR-CALDESC:Events for OpenTEL
REFRESH-INTERVAL;VALUE=DURATION:PT1H
X-Robots-Tag:noindex
X-PUBLISHED-TTL:PT1H
BEGIN:VTIMEZONE
TZID:UTC
BEGIN:STANDARD
TZOFFSETFROM:+0000
TZOFFSETTO:+0000
TZNAME:UTC
DTSTART:20180101T000000
END:STANDARD
END:VTIMEZONE
BEGIN:VEVENT
DTSTART;TZID=UTC:20180206T000000
DTEND;TZID=UTC:20180206T000000
DTSTAMP:20260421T022941
CREATED:20180207T131712Z
LAST-MODIFIED:20180207T131712Z
UID:738-1517875200-1517875200@www.open.ac.uk
SUMMARY:[ESRC Centre] Project team meeting
DESCRIPTION:
URL:https://www.open.ac.uk/blogs/opentel/event/esrc-centre-project-team-meeting/
END:VEVENT
BEGIN:VEVENT
DTSTART;TZID=UTC:20180205T140000
DTEND;TZID=UTC:20180205T163000
DTSTAMP:20260421T022941
CREATED:20180125T094842Z
LAST-MODIFIED:20180125T095240Z
UID:719-1517839200-1517848200@www.open.ac.uk
SUMMARY:Show & TEL 2018
DESCRIPTION:The first Show & TEL event of the new year is on its way! \nFollowing the success of previous Show & TELs\, OpenTEL presents half a day Show & TEL event on the 5th of February 2018\, Monday. \nPlease use #showTEL18 hashtag\, if you plan to tweet on the day.\n\nYou will be able to watch the live stream here! \nTo register either email to us or use the EventBrite link.
URL:https://www.open.ac.uk/blogs/opentel/event/show-tel-2018/
LOCATION:Meeting Room 1\, Jennie Lee Building\, The Open University\, Milton Keynes\, MK7 6AA\, United Kingdom
ATTACH;FMTTYPE=image/jpeg:https://www.open.ac.uk/blogs/opentel/wp-content/uploads/2018/01/showTEL18Feb_Poster.jpg
ORGANIZER;CN="OpenTEL":MAILTO:opentel@open.ac.uk
END:VEVENT
END:VCALENDAR