BEGIN:VCALENDAR
VERSION:2.0
PRODID:-//OpenTEL - ECPv6.0.4//NONSGML v1.0//EN
CALSCALE:GREGORIAN
METHOD:PUBLISH
X-WR-CALNAME:OpenTEL
X-ORIGINAL-URL:https://www.open.ac.uk/blogs/opentel
X-WR-CALDESC:Events for OpenTEL
REFRESH-INTERVAL;VALUE=DURATION:PT1H
X-Robots-Tag:noindex
X-PUBLISHED-TTL:PT1H
BEGIN:VTIMEZONE
TZID:UTC
BEGIN:STANDARD
TZOFFSETFROM:+0000
TZOFFSETTO:+0000
TZNAME:UTC
DTSTART:20180101T000000
END:STANDARD
END:VTIMEZONE
BEGIN:VEVENT
DTSTART;TZID=UTC:20181002T100000
DTEND;TZID=UTC:20181002T110000
DTSTAMP:20260425T142158
CREATED:20180207T133321Z
LAST-MODIFIED:20180517T083314Z
UID:763-1538474400-1538478000@www.open.ac.uk
SUMMARY:Full Group - openTEL Bi-Monthly Steering Group Meeting
DESCRIPTION:
URL:https://www.open.ac.uk/blogs/opentel/event/opentel-steering-group-meeting-6/
END:VEVENT
BEGIN:VEVENT
DTSTART;TZID=UTC:20181016T100000
DTEND;TZID=UTC:20181016T110000
DTSTAMP:20260425T142158
CREATED:20180426T084707Z
LAST-MODIFIED:20180426T084707Z
UID:872-1539684000-1539687600@www.open.ac.uk
SUMMARY:openAIED Interest Group Monthly Meeting
DESCRIPTION:
URL:https://www.open.ac.uk/blogs/opentel/event/openaied-interest-group-monthly-meeting-5/
END:VEVENT
BEGIN:VEVENT
DTSTART;TZID=UTC:20181019T080000
DTEND;TZID=UTC:20181019T170000
DTSTAMP:20260425T142158
CREATED:20180207T133435Z
LAST-MODIFIED:20180207T133435Z
UID:765-1539936000-1539968400@www.open.ac.uk
SUMMARY:[CALRG] 40th year Celebrations
DESCRIPTION:
URL:https://www.open.ac.uk/blogs/opentel/event/calrg-40th-year-celebrations/
END:VEVENT
END:VCALENDAR