BEGIN:VCALENDAR
VERSION:2.0
PRODID:-//OpenTEL - ECPv6.0.4//NONSGML v1.0//EN
CALSCALE:GREGORIAN
METHOD:PUBLISH
X-WR-CALNAME:OpenTEL
X-ORIGINAL-URL:https://www.open.ac.uk/blogs/opentel
X-WR-CALDESC:Events for OpenTEL
REFRESH-INTERVAL;VALUE=DURATION:PT1H
X-Robots-Tag:noindex
X-PUBLISHED-TTL:PT1H
BEGIN:VTIMEZONE
TZID:Europe/London
BEGIN:DAYLIGHT
TZOFFSETFROM:+0000
TZOFFSETTO:+0100
TZNAME:BST
DTSTART:20190331T010000
END:DAYLIGHT
BEGIN:STANDARD
TZOFFSETFROM:+0100
TZOFFSETTO:+0000
TZNAME:GMT
DTSTART:20191027T010000
END:STANDARD
TZID:UTC
BEGIN:STANDARD
TZOFFSETFROM:+0000
TZOFFSETTO:+0000
TZNAME:UTC
DTSTART:20190101T000000
END:STANDARD
END:VTIMEZONE
BEGIN:VEVENT
DTSTART;TZID=Europe/London:20190306T150000
DTEND;TZID=Europe/London:20190306T160000
DTSTAMP:20260425T031100
CREATED:20181204T160540Z
LAST-MODIFIED:20190128T161210Z
UID:1189-1551884400-1551888000@www.open.ac.uk
SUMMARY:Assessment & Feedback Special Interest Group Meeting
DESCRIPTION:
URL:https://www.open.ac.uk/blogs/opentel/event/opentel-assessment-feedback-special-interest-group-meeting/
LOCATION:Meeting Room 1\, Jennie Lee Building\, The Open University\, Milton Keynes\, MK7 6AA\, United Kingdom
END:VEVENT
BEGIN:VEVENT
DTSTART;TZID=Europe/London:20190312T140000
DTEND;TZID=Europe/London:20190312T150000
DTSTAMP:20260425T031100
CREATED:20180806T075723Z
LAST-MODIFIED:20181213T111514Z
UID:970-1552399200-1552402800@www.open.ac.uk
SUMMARY:openAIED Special Interest Group Meeting
DESCRIPTION:
URL:https://www.open.ac.uk/blogs/opentel/event/openaied-interest-group-monthly-meeting-9/
LOCATION:Meeting Room 1\, Jennie Lee Building\, The Open University\, Milton Keynes\, MK7 6AA\, United Kingdom
END:VEVENT
BEGIN:VEVENT
DTSTART;TZID=UTC:20190313T100000
DTEND;TZID=UTC:20190313T110000
DTSTAMP:20260425T031100
CREATED:20180720T090606Z
LAST-MODIFIED:20180720T090606Z
UID:955-1552471200-1552474800@www.open.ac.uk
SUMMARY:openTEL Steering Group Meeting
DESCRIPTION:
URL:https://www.open.ac.uk/blogs/opentel/event/opentel-steering-group-meeting-9/
END:VEVENT
BEGIN:VEVENT
DTSTART;TZID=UTC:20190320T100000
DTEND;TZID=UTC:20190320T110000
DTSTAMP:20260425T031100
CREATED:20180720T080002Z
LAST-MODIFIED:20180720T080002Z
UID:945-1553076000-1553079600@www.open.ac.uk
SUMMARY:openTEL Citizen Science Bi-monthly Meetings
DESCRIPTION:
URL:https://www.open.ac.uk/blogs/opentel/event/opentel-citizen-science-bi-monthly-meetings-4/
END:VEVENT
END:VCALENDAR