BEGIN:VCALENDAR
VERSION:2.0
PRODID:-//OpenTEL - ECPv6.0.4//NONSGML v1.0//EN
CALSCALE:GREGORIAN
METHOD:PUBLISH
X-WR-CALNAME:OpenTEL
X-ORIGINAL-URL:https://www.open.ac.uk/blogs/opentel
X-WR-CALDESC:Events for OpenTEL
REFRESH-INTERVAL;VALUE=DURATION:PT1H
X-Robots-Tag:noindex
X-PUBLISHED-TTL:PT1H
BEGIN:VTIMEZONE
TZID:UTC
BEGIN:STANDARD
TZOFFSETFROM:+0000
TZOFFSETTO:+0000
TZNAME:UTC
DTSTART:20190101T000000
END:STANDARD
TZID:Europe/London
BEGIN:DAYLIGHT
TZOFFSETFROM:+0000
TZOFFSETTO:+0100
TZNAME:BST
DTSTART:20190331T010000
END:DAYLIGHT
BEGIN:STANDARD
TZOFFSETFROM:+0100
TZOFFSETTO:+0000
TZNAME:GMT
DTSTART:20191027T010000
END:STANDARD
END:VTIMEZONE
BEGIN:VEVENT
DTSTART;TZID=UTC:20190402T140000
DTEND;TZID=UTC:20190402T160000
DTSTAMP:20260425T031822
CREATED:20190301T164502Z
LAST-MODIFIED:20190301T164508Z
UID:1419-1554213600-1554220800@www.open.ac.uk
SUMMARY:openTEL and SeGA: Open & Inclusive SIG
DESCRIPTION:
URL:https://www.open.ac.uk/blogs/opentel/event/opentel-and-sega-open-inclusive-sig/
END:VEVENT
BEGIN:VEVENT
DTSTART;TZID=UTC:20190403T090000
DTEND;TZID=UTC:20190403T230000
DTSTAMP:20260425T031822
CREATED:20190301T155914Z
LAST-MODIFIED:20190301T160056Z
UID:1412-1554282000-1554332400@www.open.ac.uk
SUMMARY:Show & TEL
DESCRIPTION:
URL:https://www.open.ac.uk/blogs/opentel/event/show-tel/
END:VEVENT
BEGIN:VEVENT
DTSTART;TZID=UTC:20190409T140000
DTEND;TZID=UTC:20190409T150000
DTSTAMP:20260425T031822
CREATED:20180806T075753Z
LAST-MODIFIED:20181213T111503Z
UID:972-1554818400-1554822000@www.open.ac.uk
SUMMARY:openAIED Special Interest Group Meeting
DESCRIPTION:
URL:https://www.open.ac.uk/blogs/opentel/event/openaied-interest-group-monthly-meeting-10/
LOCATION:Meeting Room 1\, Jennie Lee Building\, The Open University\, Milton Keynes\, MK7 6AA\, United Kingdom
END:VEVENT
BEGIN:VEVENT
DTSTART;TZID=Europe/London:20190410T150000
DTEND;TZID=Europe/London:20190410T160000
DTSTAMP:20260425T031822
CREATED:20181204T160710Z
LAST-MODIFIED:20190301T163800Z
UID:1191-1554908400-1554912000@www.open.ac.uk
SUMMARY:Assessment & Feedback Special Interest Group Meeting
DESCRIPTION:
URL:https://www.open.ac.uk/blogs/opentel/event/opentel-assessment-feedback-special-interest-group-meeting-2/
LOCATION:Meeting Room 1\, Jennie Lee Building\, The Open University\, Milton Keynes\, MK7 6AA\, United Kingdom
END:VEVENT
BEGIN:VEVENT
DTSTART;TZID=Europe/London:20190416T150000
DTEND;TZID=Europe/London:20190416T160000
DTSTAMP:20260425T031822
CREATED:20181204T170038Z
LAST-MODIFIED:20190301T164228Z
UID:1216-1555426800-1555430400@www.open.ac.uk
SUMMARY:openTEL Steering Group Meeting
DESCRIPTION:
URL:https://www.open.ac.uk/blogs/opentel/event/opentel-steering-group-meeting-13/
LOCATION:Ash Meeting Room\, JLB\, The Open University\, Milton Keynes\, MK7 6AA\, United Kingdom
END:VEVENT
END:VCALENDAR