BEGIN:VCALENDAR
VERSION:2.0
PRODID:-//OpenTEL - ECPv6.0.4//NONSGML v1.0//EN
CALSCALE:GREGORIAN
METHOD:PUBLISH
X-ORIGINAL-URL:https://www.open.ac.uk/blogs/opentel
X-WR-CALDESC:Events for OpenTEL
REFRESH-INTERVAL;VALUE=DURATION:PT1H
X-Robots-Tag:noindex
X-PUBLISHED-TTL:PT1H
BEGIN:VTIMEZONE
TZID:UTC
BEGIN:STANDARD
TZOFFSETFROM:+0000
TZOFFSETTO:+0000
TZNAME:UTC
DTSTART:20190101T000000
END:STANDARD
END:VTIMEZONE
BEGIN:VEVENT
DTSTART;TZID=UTC:20190701T150000
DTEND;TZID=UTC:20190701T160000
DTSTAMP:20260424T101402
CREATED:20181204T160857Z
LAST-MODIFIED:20181213T111434Z
UID:1195-1561993200-1561996800@www.open.ac.uk
SUMMARY:Assessment & Feedback Special Interest Group Meeting
DESCRIPTION:
URL:https://www.open.ac.uk/blogs/opentel/event/opentel-assessment-feedback-special-interest-group-meeting-4/
LOCATION:Meeting Room 1\, Jennie Lee Building\, The Open University\, Milton Keynes\, MK7 6AA\, United Kingdom
END:VEVENT
BEGIN:VEVENT
DTSTART;TZID=UTC:20190709T140000
DTEND;TZID=UTC:20190709T150000
DTSTAMP:20260424T101402
CREATED:20180806T080008Z
LAST-MODIFIED:20181213T111429Z
UID:978-1562680800-1562684400@www.open.ac.uk
SUMMARY:openAIED Special Interest Group Meeting
DESCRIPTION:
URL:https://www.open.ac.uk/blogs/opentel/event/openaied-interest-group-monthly-meeting-13/
LOCATION:Meeting Room 1\, Jennie Lee Building\, The Open University\, Milton Keynes\, MK7 6AA\, United Kingdom
END:VEVENT
BEGIN:VEVENT
DTSTART;TZID=UTC:20190710T100000
DTEND;TZID=UTC:20190710T110000
DTSTAMP:20260424T101402
CREATED:20180720T090809Z
LAST-MODIFIED:20181204T164152Z
UID:961-1562752800-1562756400@www.open.ac.uk
SUMMARY:openTEL Steering Group Meeting
DESCRIPTION:
URL:https://www.open.ac.uk/blogs/opentel/event/opentel-steering-group-meeting-12/
LOCATION:Ash Meeting Room\, JLB\, The Open University\, Milton Keynes\, MK7 6AA\, United Kingdom
END:VEVENT
BEGIN:VEVENT
DTSTART;TZID=UTC:20190717T100000
DTEND;TZID=UTC:20190717T110000
DTSTAMP:20260424T101402
CREATED:20180720T080120Z
LAST-MODIFIED:20180720T080120Z
UID:949-1563357600-1563361200@www.open.ac.uk
SUMMARY:openTEL Citizen Science Bi-monthly Meetings
DESCRIPTION:
URL:https://www.open.ac.uk/blogs/opentel/event/opentel-citizen-science-bi-monthly-meetings-6/
END:VEVENT
END:VCALENDAR