BEGIN:VCALENDAR
VERSION:2.0
PRODID:-//OpenTEL - ECPv6.0.4//NONSGML v1.0//EN
CALSCALE:GREGORIAN
METHOD:PUBLISH
X-WR-CALNAME:OpenTEL
X-ORIGINAL-URL:https://www.open.ac.uk/blogs/opentel
X-WR-CALDESC:Events for OpenTEL
REFRESH-INTERVAL;VALUE=DURATION:PT1H
X-Robots-Tag:noindex
X-PUBLISHED-TTL:PT1H
BEGIN:VTIMEZONE
TZID:UTC
BEGIN:STANDARD
TZOFFSETFROM:+0000
TZOFFSETTO:+0000
TZNAME:UTC
DTSTART:20190101T000000
END:STANDARD
TZID:Europe/London
BEGIN:DAYLIGHT
TZOFFSETFROM:+0000
TZOFFSETTO:+0100
TZNAME:BST
DTSTART:20190331T010000
END:DAYLIGHT
BEGIN:STANDARD
TZOFFSETFROM:+0100
TZOFFSETTO:+0000
TZNAME:GMT
DTSTART:20191027T010000
END:STANDARD
END:VTIMEZONE
BEGIN:VEVENT
DTSTART;TZID=UTC:20191104T090000
DTEND;TZID=UTC:20191105T160000
DTSTAMP:20260424T002457
CREATED:20190301T160355Z
LAST-MODIFIED:20190821T132833Z
UID:1416-1572858000-1572969600@www.open.ac.uk
SUMMARY:Show & TEL
DESCRIPTION:
URL:https://www.open.ac.uk/blogs/opentel/event/show-tel-2/
LOCATION:Meeting Room 1\, Jennie Lee Building\, The Open University\, Milton Keynes\, MK7 6AA\, United Kingdom
END:VEVENT
BEGIN:VEVENT
DTSTART;TZID=Europe/London:20191112T140000
DTEND;TZID=Europe/London:20191112T150000
DTSTAMP:20260424T002457
CREATED:20180806T080250Z
LAST-MODIFIED:20181213T111349Z
UID:986-1573567200-1573570800@www.open.ac.uk
SUMMARY:openAIED Special Interest Group Meeting
DESCRIPTION:
URL:https://www.open.ac.uk/blogs/opentel/event/openaied-interest-group-monthly-meeting-17/
LOCATION:Meeting Room 1\, Jennie Lee Building\, The Open University\, Milton Keynes\, MK7 6AA\, United Kingdom
END:VEVENT
BEGIN:VEVENT
DTSTART;TZID=Europe/London:20191113T100000
DTEND;TZID=Europe/London:20191113T110000
DTSTAMP:20260424T002457
CREATED:20181204T170606Z
LAST-MODIFIED:20181204T170606Z
UID:1222-1573639200-1573642800@www.open.ac.uk
SUMMARY:openTEL Steering Group Meeting
DESCRIPTION:
URL:https://www.open.ac.uk/blogs/opentel/event/opentel-steering-group-meeting-16/
LOCATION:Ash Meeting Room\, JLB\, The Open University\, Milton Keynes\, MK7 6AA\, United Kingdom
END:VEVENT
END:VCALENDAR