BEGIN:VCALENDAR
VERSION:2.0
PRODID:-//OpenTEL - ECPv6.0.4//NONSGML v1.0//EN
CALSCALE:GREGORIAN
METHOD:PUBLISH
X-ORIGINAL-URL:https://www.open.ac.uk/blogs/opentel
X-WR-CALDESC:Events for OpenTEL
REFRESH-INTERVAL;VALUE=DURATION:PT1H
X-Robots-Tag:noindex
X-PUBLISHED-TTL:PT1H
BEGIN:VTIMEZONE
TZID:UTC
BEGIN:STANDARD
TZOFFSETFROM:+0000
TZOFFSETTO:+0000
TZNAME:UTC
DTSTART:20200101T000000
END:STANDARD
END:VTIMEZONE
BEGIN:VEVENT
DTSTART;TZID=UTC:20200319T110000
DTEND;TZID=UTC:20200319T120000
DTSTAMP:20260423T010353
CREATED:20200318T123653Z
LAST-MODIFIED:20200318T123816Z
UID:1932-1584615600-1584619200@www.open.ac.uk
SUMMARY:ONLINE: CALRG Presentation
DESCRIPTION:ADMINS: developing an AI-powered assistant for students with accessibility needs to overcome barriers in accessing support  \nThursday 19th March 2020\, 11:00 – 12:00 – ONLINE \n  \nCALRG sessions will be moving to online webinars for the foreseeable future. As colleagues are separated and working from home\, we hope that you will join us online to catch up with colleagues. All online CALRG sessions will be hosted in the IET Adobe Connect Room here: https://learn3.open.ac.uk/mod/connecthosted/view.php?id=122548 \nFor those who have not used Adobe Connect before\, you might be required to install something the first time you use it. Check this link for a helpful FAQ guide on Adobe Connect. \n  \n 
URL:https://www.open.ac.uk/blogs/opentel/event/online-calrg-presentation-admins-developing-an-ai-powered-assistant-for-students-with-accessibility-needs-to-overcome-barriers-in-accessing-support/
END:VEVENT
BEGIN:VEVENT
DTSTART;TZID=UTC:20200331T093000
DTEND;TZID=UTC:20200331T123000
DTSTAMP:20260423T010353
CREATED:20200312T151322Z
LAST-MODIFIED:20200318T125317Z
UID:1905-1585647000-1585657800@www.open.ac.uk
SUMMARY:CANCELLED: Research Career Value Chain
DESCRIPTION:** This meeting will be rescheduled ** \nHelen Elves\, Research Development Manager\, will be joining Eileen and the Research Support Team on 31st March to run a workshop to introduce the Research Career Value Chain. This tool will help you to navigate research opportunities based on your career stage\, support your research bidding activity\, and help to plan your career development.  \n  \n 
URL:https://www.open.ac.uk/blogs/opentel/event/research-career-value-chain/
END:VEVENT
END:VCALENDAR