BEGIN:VCALENDAR
VERSION:2.0
PRODID:-//OpenTEL - ECPv6.0.4//NONSGML v1.0//EN
CALSCALE:GREGORIAN
METHOD:PUBLISH
X-ORIGINAL-URL:https://www.open.ac.uk/blogs/opentel
X-WR-CALDESC:Events for OpenTEL
REFRESH-INTERVAL;VALUE=DURATION:PT1H
X-Robots-Tag:noindex
X-PUBLISHED-TTL:PT1H
BEGIN:VTIMEZONE
TZID:Europe/London
BEGIN:DAYLIGHT
TZOFFSETFROM:+0000
TZOFFSETTO:+0100
TZNAME:BST
DTSTART:20200329T010000
END:DAYLIGHT
BEGIN:STANDARD
TZOFFSETFROM:+0100
TZOFFSETTO:+0000
TZNAME:GMT
DTSTART:20201025T010000
END:STANDARD
TZID:UTC
BEGIN:STANDARD
TZOFFSETFROM:+0000
TZOFFSETTO:+0000
TZNAME:UTC
DTSTART:20200101T000000
END:STANDARD
END:VTIMEZONE
BEGIN:VEVENT
DTSTART;TZID=Europe/London:20200603T140000
DTEND;TZID=Europe/London:20200603T150000
DTSTAMP:20260422T163214
CREATED:20200312T122956Z
LAST-MODIFIED:20200521T153846Z
UID:1891-1591192800-1591196400@www.open.ac.uk
SUMMARY:Assessment & Feedback SIG
DESCRIPTION:This Assessment and Feedback SIG will be a presentation by Chris Nelson and Ian Blackham\, Senior Product Development Managers\, focusing on new assessment tools on the VLE. \nAdobe Connect link for staff: https://learn3.open.ac.uk/mod/connecthosted/view.php?id=172788 \n(Non OU/External participants please use: https://ou.adobeconnect.com/r1lpp6x0f2ls/)
URL:https://www.open.ac.uk/blogs/opentel/event/assessment-feedback-sig-2/
END:VEVENT
BEGIN:VEVENT
DTSTART;TZID=UTC:20200608T100000
DTEND;TZID=UTC:20200608T130000
DTSTAMP:20260422T163214
CREATED:20200608T145456Z
LAST-MODIFIED:20200608T145456Z
UID:1982-1591610400-1591621200@www.open.ac.uk
SUMMARY:Research Career Value Chain Workshop
DESCRIPTION:Helen Elves\, Research Development Manager\, will be joining Eileen and the Research Support Team to run an online workshop to introduce the Research Career Value Chain. This tool will help you to navigate research opportunities based on your career stage\, support your research bidding activity\, and help to plan your career development. \ncontact: openTEL@open.ac.uk
URL:https://www.open.ac.uk/blogs/opentel/event/research-career-value-chain-workshop/
END:VEVENT
BEGIN:VEVENT
DTSTART;TZID=UTC:20200610T100000
DTEND;TZID=UTC:20200610T110000
DTSTAMP:20260422T163214
CREATED:20200608T145538Z
LAST-MODIFIED:20200608T145658Z
UID:1984-1591783200-1591786800@www.open.ac.uk
SUMMARY:openTEL Steering Group Meeting
DESCRIPTION:
URL:https://www.open.ac.uk/blogs/opentel/event/opentel-steering-group-meeting-18/
END:VEVENT
BEGIN:VEVENT
DTSTART;TZID=UTC:20200623T140000
DTEND;TZID=UTC:20200623T150000
DTSTAMP:20260422T163214
CREATED:20200312T151922Z
LAST-MODIFIED:20200625T083200Z
UID:1907-1592920800-1592924400@www.open.ac.uk
SUMMARY:openAIED SIG
DESCRIPTION:Presentation by Anna De Liddo. More info here
URL:https://www.open.ac.uk/blogs/opentel/event/openaied-sig/
END:VEVENT
BEGIN:VEVENT
DTSTART;TZID=UTC:20200629T140000
DTEND;TZID=UTC:20200629T160000
DTSTAMP:20260422T163214
CREATED:20200312T152009Z
LAST-MODIFIED:20200624T143044Z
UID:1909-1593439200-1593446400@www.open.ac.uk
SUMMARY:Open & Inclusive SIG
DESCRIPTION:Adobe Connect link: https://learn3.open.ac.uk/mod/connecthosted/view.php?id=172788 \n(Non OU/External attendees please use: https://ou.adobeconnect.com/r1lpp6x0f2ls/) \nopenTEL and SeGA are pleased to announce that the next Open & Inclusive Special Interest Group will include presentations from the following speakers: \nPresentation 1: James Schwanethal: ASD and me \nPresentation 2: Annabel Nijhof and Danna Oomen: The impact of the Covid-19 pandemic on autistic adults \nPresentation 3: Laura Dean: Autistic Students in Higher Education: What Problems Do They Face? How Can We Help? \nFull abstracts and bios \nNo need to register.
URL:https://www.open.ac.uk/blogs/opentel/event/open-inclusive-sig-2/
END:VEVENT
END:VCALENDAR