BEGIN:VCALENDAR
VERSION:2.0
PRODID:-//OpenTEL - ECPv6.0.4//NONSGML v1.0//EN
CALSCALE:GREGORIAN
METHOD:PUBLISH
X-WR-CALNAME:OpenTEL
X-ORIGINAL-URL:https://www.open.ac.uk/blogs/opentel
X-WR-CALDESC:Events for OpenTEL
REFRESH-INTERVAL;VALUE=DURATION:PT1H
X-Robots-Tag:noindex
X-PUBLISHED-TTL:PT1H
BEGIN:VTIMEZONE
TZID:Europe/London
BEGIN:DAYLIGHT
TZOFFSETFROM:+0000
TZOFFSETTO:+0100
TZNAME:BST
DTSTART:20210328T010000
END:DAYLIGHT
BEGIN:STANDARD
TZOFFSETFROM:+0100
TZOFFSETTO:+0000
TZNAME:GMT
DTSTART:20211031T010000
END:STANDARD
END:VTIMEZONE
BEGIN:VEVENT
DTSTART;TZID=Europe/London:20210909T110000
DTEND;TZID=Europe/London:20210909T113000
DTSTAMP:20260421T130105
CREATED:20210721T102602Z
LAST-MODIFIED:20210819T112525Z
UID:2580-1631185200-1631187000@www.open.ac.uk
SUMMARY:Artificial Intelligence in Education: openAIED SIG
DESCRIPTION:Please join us for this mini openAIED Special Interest Group meeting. There are no presenters for this session\, instead we will use the time to find out what people are up to and discuss what’s next for the openAIED SIG. Duygu Bektik and Francisco Iniesto will be leading the meeting\, so do come along to listen in or contribute if you can.  All are welcome! \nPlease contact openTEL for an invite.
URL:https://www.open.ac.uk/blogs/opentel/event/artificial-intelligence-in-education-openaied-sig/
END:VEVENT
BEGIN:VEVENT
DTSTART;TZID=Europe/London:20210915T100000
DTEND;TZID=Europe/London:20210915T120000
DTSTAMP:20260421T130105
CREATED:20210721T101347Z
LAST-MODIFIED:20210902T100632Z
UID:2576-1631700000-1631707200@www.open.ac.uk
SUMMARY:Accessibility in the BBC: open & Inclusive SIG
DESCRIPTION:External speakers from the BBC discuss accessibility as part of the open & Inclusive Special Interest Group. All are welcome. Please email openTEL for an invite. \nAccessibility in the BBC
URL:https://www.open.ac.uk/blogs/opentel/event/accessibility-in-the-bbc-open-inclusive-sig/
END:VEVENT
END:VCALENDAR