BEGIN:VCALENDAR
VERSION:2.0
PRODID:-//OpenTEL - ECPv6.0.4//NONSGML v1.0//EN
CALSCALE:GREGORIAN
METHOD:PUBLISH
X-WR-CALNAME:OpenTEL
X-ORIGINAL-URL:https://www.open.ac.uk/blogs/opentel
X-WR-CALDESC:Events for OpenTEL
REFRESH-INTERVAL;VALUE=DURATION:PT1H
X-Robots-Tag:noindex
X-PUBLISHED-TTL:PT1H
BEGIN:VTIMEZONE
TZID:Europe/London
BEGIN:DAYLIGHT
TZOFFSETFROM:+0000
TZOFFSETTO:+0100
TZNAME:BST
DTSTART:20210328T010000
END:DAYLIGHT
BEGIN:STANDARD
TZOFFSETFROM:+0100
TZOFFSETTO:+0000
TZNAME:GMT
DTSTART:20211031T010000
END:STANDARD
END:VTIMEZONE
BEGIN:VEVENT
DTSTART;TZID=Europe/London:20211006T140000
DTEND;TZID=Europe/London:20211006T153000
DTSTAMP:20260421T130108
CREATED:20210721T103433Z
LAST-MODIFIED:20210923T164451Z
UID:2582-1633528800-1633534200@www.open.ac.uk
SUMMARY:Assessment & Feedback SIG
DESCRIPTION:Abstract and Bio: https://www.open.ac.uk/blogs/opentel/jose-luis-aznarte-presents-at-the-next-assessment-feedback-sig/ \n 
URL:https://www.open.ac.uk/blogs/opentel/event/assessment-feedback-sig/
END:VEVENT
BEGIN:VEVENT
DTSTART;TZID=Europe/London:20211012T110000
DTEND;TZID=Europe/London:20211012T123000
DTSTAMP:20260421T130108
CREATED:20210721T103847Z
LAST-MODIFIED:20211007T153357Z
UID:2584-1634036400-1634041800@www.open.ac.uk
SUMMARY:Learning at Scale: L@S SIG
DESCRIPTION:Join us for the Learning at Scale Special Interest Group. More information here: https://www.open.ac.uk/blogs/opentel/learning-scale-sig-12th-october-2021/ \n  \n 
URL:https://www.open.ac.uk/blogs/opentel/event/learning-at-scale-ls-sig/
END:VEVENT
END:VCALENDAR