BEGIN:VCALENDAR
VERSION:2.0
PRODID:-//OpenTEL - ECPv6.0.4//NONSGML v1.0//EN
CALSCALE:GREGORIAN
METHOD:PUBLISH
X-ORIGINAL-URL:https://www.open.ac.uk/blogs/opentel
X-WR-CALDESC:Events for OpenTEL
REFRESH-INTERVAL;VALUE=DURATION:PT1H
X-Robots-Tag:noindex
X-PUBLISHED-TTL:PT1H
BEGIN:VTIMEZONE
TZID:Europe/London
BEGIN:DAYLIGHT
TZOFFSETFROM:+0000
TZOFFSETTO:+0100
TZNAME:BST
DTSTART:20210328T010000
END:DAYLIGHT
BEGIN:STANDARD
TZOFFSETFROM:+0100
TZOFFSETTO:+0000
TZNAME:GMT
DTSTART:20211031T010000
END:STANDARD
END:VTIMEZONE
BEGIN:VEVENT
DTSTART;TZID=Europe/London:20211102T093000
DTEND;TZID=Europe/London:20211102T123000
DTSTAMP:20260422T223627
CREATED:20210721T104723Z
LAST-MODIFIED:20211027T150645Z
UID:2586-1635845400-1635856200@www.open.ac.uk
SUMMARY:Show & TEL: Day 1
DESCRIPTION:Agenda and Abstracts
URL:https://www.open.ac.uk/blogs/opentel/event/show-tel-day-1/
END:VEVENT
BEGIN:VEVENT
DTSTART;TZID=Europe/London:20211103T100000
DTEND;TZID=Europe/London:20211103T123000
DTSTAMP:20260422T223627
CREATED:20210721T105028Z
LAST-MODIFIED:20211027T150728Z
UID:2588-1635933600-1635942600@www.open.ac.uk
SUMMARY:Show & TEL: Day 2
DESCRIPTION:Agenda and abstracts
URL:https://www.open.ac.uk/blogs/opentel/event/show-tel-day-2/
END:VEVENT
BEGIN:VEVENT
DTSTART;TZID=Europe/London:20211124T140000
DTEND;TZID=Europe/London:20211124T153000
DTSTAMP:20260422T223627
CREATED:20210721T110839Z
LAST-MODIFIED:20211110T095158Z
UID:2592-1637762400-1637767800@www.open.ac.uk
SUMMARY:Assessment & Feedback Special Interest Group
DESCRIPTION:Join us online for the Assessment & Feedback SIG which will include speakers from Michigan University. \nFor an invite please contact openTEL. \nAll are welcome! \nMore info: https://www.open.ac.uk/blogs/opentel/presentations-from-michigan-university-24-11-21/
URL:https://www.open.ac.uk/blogs/opentel/event/assessment-feedback-special-interest-group/
END:VEVENT
END:VCALENDAR